BEGIN:VCALENDAR
VERSION:2.0
PRODID:-//Tukios.com/
BEGIN:VEVENT
UID:81b1d912-2589-4e5a-b826-2e518991aab0@www.solanpruzinfuneralhome.com
DTSTAMP:20260420T030303Z
DTSTART:20260426T180000Z
DTEND:20260426T220000Z
SUMMARY:Visitation
DESCRIPTION:
URL:https://www.solanpruzinfuneralhome.com/obituaries/regina-kirincic
LOCATION:Solan-Pruzin Funeral Home 14 Kennedy Avenue  Schererville IN 
	46375
GEO:41.5223862;-87.4623571
END:VEVENT
END:VCALENDAR