BEGIN:VCALENDAR
VERSION:2.0
PRODID:-//Tukios.com/
BEGIN:VEVENT
UID:c4769b7c-0ffa-4209-b39f-738b262f4627@www.solanpruzinfuneralhome.com
DTSTAMP:20260420T025503Z
DTSTART:20260427T150000Z
DTEND:20260427T160000Z
SUMMARY:Funeral Service
DESCRIPTION:
URL:https://www.solanpruzinfuneralhome.com/obituaries/regina-kirincic
LOCATION:Solan-Pruzin Funeral Home 14 Kennedy Avenue  Schererville IN 
	46375
GEO:41.5223862;-87.4623571
END:VEVENT
END:VCALENDAR